BEGIN:VCALENDAR
VERSION:2.0
PRODID:-//ChamberMaster//Event Calendar 2.0//EN
METHOD:PUBLISH
X-PUBLISHED-TTL:P3D
REFRESH-INTERVAL:P3D
CALSCALE:GREGORIAN
BEGIN:VEVENT
DTSTART:20140504T210000Z
DTEND:20140505T000000Z
X-MICROSOFT-CDO-ALLDAYEVENT:FALSE
SUMMARY:UCC Annual Beef Dinner
DESCRIPTION:Homemade pie\n\nBeef by Buzzy's\n\n\n\nCarryouts available\n\nDeliveries to shut-ins Call 659-3166
X-ALT-DESC;FMTTYPE=text/html:Homemade pie<br />\nBeef by Buzzy&#39\;s<br />\n<br />\nCarryouts available<br />\nDeliveries to shut-ins Call 659-3166
LOCATION:First Congregational United Church of Christ 520 E. 11th St. DeWitt\, IA
UID:e.1774.36
SEQUENCE:3
DTSTAMP:20260420T064327Z
URL:http://dewitt.chambermaster.com/events/details/ucc-annual-beef-dinner-05-04-2014-36
END:VEVENT

END:VCALENDAR
